BEGIN:VCALENDAR
VERSION:2.0
PRODID:-//The Springfield Primary School - ECPv6.15.11//NONSGML v1.0//EN
CALSCALE:GREGORIAN
METHOD:PUBLISH
X-WR-CALNAME:The Springfield Primary School
X-ORIGINAL-URL:https://tspsqatar.com
X-WR-CALDESC:Events for The Springfield Primary School
REFRESH-INTERVAL;VALUE=DURATION:PT1H
X-Robots-Tag:noindex
X-PUBLISHED-TTL:PT1H
BEGIN:VTIMEZONE
TZID:Europe/Moscow
BEGIN:STANDARD
TZOFFSETFROM:+0300
TZOFFSETTO:+0300
TZNAME:MSK
DTSTART:20160101T000000
END:STANDARD
END:VTIMEZONE
BEGIN:VEVENT
DTSTART;VALUE=DATE:20180422
DTEND;VALUE=DATE:20180423
DTSTAMP:20260423T205254
CREATED:20180414T132746Z
LAST-MODIFIED:20180414T132746Z
UID:756-1524355200-1524441599@tspsqatar.com
SUMMARY:EARTH DAY (Craft Activity)
DESCRIPTION:
URL:https://tspsqatar.com/event/earth-day-craft-activity/
LOCATION:TSPS Campus
END:VEVENT
BEGIN:VEVENT
DTSTART;VALUE=DATE:20171224
DTEND;VALUE=DATE:20180102
DTSTAMP:20260423T205254
CREATED:20171224T101717Z
LAST-MODIFIED:20171224T101717Z
UID:343-1514073600-1514851199@tspsqatar.com
SUMMARY:Winter Vacation
DESCRIPTION:School re opening on 02/01/2018.
URL:https://tspsqatar.com/event/winter-vacation/
END:VEVENT
END:VCALENDAR